BEGIN:VCALENDAR
VERSION:2.0
PRODID:-//wp-events-plugin.com//7.2.3.1//EN
TZID:Europe/Madrid
X-WR-TIMEZONE:Europe/Madrid
BEGIN:VEVENT
UID:6@creativegan.net
DTSTART;TZID=Europe/Madrid:20241115T150000
DTEND;TZID=Europe/Madrid:20241115T164500
DTSTAMP:20241105T113325Z
URL:https://creativegan.net/eventos/taller-fotografia-culinaria/
SUMMARY:[Aplazado] Taller de fotografía culinaria
DESCRIPTION:Taller de fotografía culinaria impartido por Virginia García 
 - CreatiVegan en la XI Jornada CODINUCOVA (Valencia)\, el próximo día 15
  de noviembre de 2024. Inscripciones en jornada.codinucova.es
ATTACH;FMTTYPE=image/jpeg:https://creativegan.net/wp-content/uploads/2024/
 06/taller_fotografia_culinaria.png
CATEGORIES:taller/formación
LOCATION:BioHub VLC\, C/ Travessia\, 15E – Marina de Valencia\, Valencia\
 , Valencia\, 46024\, Comunidad Valenciana\, España
X-APPLE-STRUCTURED-LOCATION;VALUE=URI;X-ADDRESS=C/ Travessia\, 15E – Mari
 na de Valencia\, Valencia\, Valencia\, 46024\, Comunidad Valenciana\, Espa
 ña;X-APPLE-RADIUS=100;X-TITLE=BioHub VLC:geo:0,0
END:VEVENT
BEGIN:VTIMEZONE
TZID:Europe/Madrid
X-LIC-LOCATION:Europe/Madrid
BEGIN:STANDARD
DTSTART:20241027T020000
TZOFFSETFROM:+0200
TZOFFSETTO:+0100
TZNAME:CET
END:STANDARD
END:VTIMEZONE
END:VCALENDAR