BEGIN:VCALENDAR
VERSION:2.0
PRODID:-//wp-events-plugin.com//7.2.3.1//EN
TZID:Europe/Madrid
X-WR-TIMEZONE:Europe/Madrid
BEGIN:VEVENT
UID:8@creativegan.net
DTSTART;TZID=Europe/Madrid:20250516T100000
DTEND;TZID=Europe/Madrid:20250516T104500
DTSTAMP:20250322T061408Z
URL:https://creativegan.net/eventos/taller-de-fotografia-culinaria/
SUMMARY:Taller de fotografía culinaria
DESCRIPTION:Taller de fotografía culinaria para nutricionistas y profesion
 ales impartido por Virginia García (CreatiVegan) en la XI Jornada CODiNuC
 oVa el día 16 de mayo de 2025 en BioHub Valencia.
ATTACH;FMTTYPE=image/jpeg:https://creativegan.net/wp-content/uploads/2024/
 06/taller_fotografia_culinaria.png
CATEGORIES:taller/formación
LOCATION:BioHub VLC\, C/ Travessia\, 15E – Marina de Valencia\, Valencia\
 , Valencia\, 46024\, Comunidad Valenciana\, España
X-APPLE-STRUCTURED-LOCATION;VALUE=URI;X-ADDRESS=C/ Travessia\, 15E – Mari
 na de Valencia\, Valencia\, Valencia\, 46024\, Comunidad Valenciana\, Espa
 ña;X-APPLE-RADIUS=100;X-TITLE=BioHub VLC:geo:0,0
END:VEVENT
BEGIN:VTIMEZONE
TZID:Europe/Madrid
X-LIC-LOCATION:Europe/Madrid
BEGIN:DAYLIGHT
DTSTART:20250330T030000
TZOFFSETFROM:+0100
TZOFFSETTO:+0200
TZNAME:CEST
END:DAYLIGHT
END:VTIMEZONE
END:VCALENDAR