BEGIN:VCALENDAR
VERSION:2.0
PRODID:-//wp-events-plugin.com//7.2.3.1//EN
TZID:Europe/Madrid
X-WR-TIMEZONE:Europe/Madrid
BEGIN:VEVENT
UID:4@creativegan.net
DTSTART;TZID=Europe/Madrid:20230617T093000
DTEND;TZID=Europe/Madrid:20230617T143000
DTSTAMP:20230530T032325Z
URL:https://creativegan.net/eventos/ii-jornadas-de-albacete-de-derechos-an
 imales/
SUMMARY:II Jornadas de Albacete de Derechos Animales
DESCRIPTION:Fundación Alma Animal y la Unión Vegetariana Española (UVE) 
 organizan la II Jornada de Albacete de Derechos Animales\, que tendrá lug
 ar el próximo 17 de junio de 9:30 a 14:30 horas en el Centro Sociocultura
 l Antonio Cepillo de Albacete (C/ Maratón c/v Avda. de la Mancha).\n\n\n[
 caption id="attachment_10839" align="aligncenter" width="400"] Cartel de l
 a II Jornada de Albacete de Derechos Animales 2023[/caption]\nEn esta ocas
 ión\, la temática se centrará en la ética y la nutrición 100 % vegeta
 l\, de la manos de 3 figuras clave del veganismo en España: el divulgador
  y nutricionista albaceteño Aitor Sánchez\, “Mi dieta cojea”\, Oscar
  Horta\, activista antiespecista y miembro de la Fundación Ética Animal 
 y Virginia García “Creativegan”\, chef vegana y fotógrafa gastronóm
 ica.\n[su_table responsive="yes" fixed="yes"]\n\n\n\n\n\n\n\n\n\n[/su_tabl
 e]\n\n\nLa jornada tiene plazas limitadas a un máximo de 120 personas\, q
 ue además de las charlas de las personas expertas podrán disfrutar de un
  catering vegano elaborado por Virginia García (CreatiVegan). La inscripc
 ión es gratuita y se puede realizar hasta el día 9.\n\nCatering y degust
 ación\nTendremos un coffee break 100% vegetal con multitud de opciones.\n
 Después de las charlas\, catering degustación de platos\, tapas\, pintxo
 s\, postres\, dulces... todo vegano\, por supuesto. Si alguien necesitaba 
 un empujoncito para hacerse vegano/a\, aquí lo tiene \;)\nDe toda la comi
 da y bebida me encargo yo\, así que puedes imaginar la cantidad de cosas 
 exquisitas que habrá.\n\nFila Cero\nSi no puedes asistir\, tenemos fila c
 ero. Haz una donación y ayúdanos a crear más eventos así de chulos.\nC
 olaborar con Fila Cero.\n\nII Jornada de Albacete de Derechos Animales - 
 ética y nutrición 100% vegetal\nReservar entrada (puedes hacer un donati
 vo con tu entrada): EVENTBRITE\nWeb de la jornada y más información: htt
 ps://fundacionalmaanimal.org/proyectos/jornada-de-albacete-de-derechos-ani
 males/\nURL corta: bit.ly/jornada-albacete\n\nOrganizan:\n[su_table respon
 sive="yes" fixed="yes"]\n\n\n\n\n\n\n\n\n\n[/su_table]\n\n\n
ATTACH;FMTTYPE=image/jpeg:https://creativegan.net/wp-content/uploads/2023/
 05/cartel_jornadas_TW.png
CATEGORIES:charla o conferencia,degustación
LOCATION:Centro Sociocultural Barrio Medicina y Universidad Dr. Antonio Cep
 illo\, Calle Maratón &amp\; Avenida de la Mancha\, Albacete\, Albacete\, 
 Albacete\, 02008\, España
GEO:38.976888;-1.847808
X-APPLE-STRUCTURED-LOCATION;VALUE=URI;X-ADDRESS=Calle Maratón & Avenida de
  la Mancha\, Albacete\, Albacete\, Albacete\, 02008\, España;X-APPLE-RADI
 US=100;X-TITLE=Centro Sociocultural Barrio Medicina y Universidad Dr. Anto
 nio Cepillo:geo:38.976888,-1.847808
END:VEVENT
BEGIN:VTIMEZONE
TZID:Europe/Madrid
X-LIC-LOCATION:Europe/Madrid
BEGIN:DAYLIGHT
DTSTART:20230326T030000
TZOFFSETFROM:+0100
TZOFFSETTO:+0200
TZNAME:CEST
END:DAYLIGHT
END:VTIMEZONE
END:VCALENDAR