BEGIN:VCALENDAR
VERSION:2.0
PRODID:-//wp-events-plugin.com//7.2.3.1//EN
TZID:Europe/Madrid
X-WR-TIMEZONE:Europe/Madrid
BEGIN:VEVENT
UID:1@creativegan.net
DTSTART;TZID=Europe/Madrid:20221001T111500
DTEND;TZID=Europe/Madrid:20221001T121500
DTSTAMP:20220913T060513Z
URL:https://creativegan.net/eventos/conferencia-cocina-vegana-para-princip
 iantes/
SUMMARY:Conferencia: Cocina vegana para principiantes
DESCRIPTION:﻿\n\nDentro de las actividades del VeganFest Alicante 2022 da
 ré una charla:\n"Cocina Vegana para Principiantes"\nExplicaré los ingred
 ientes básicos más baratos\, cómo veganizar las recetas que más te gus
 tan\, cómo incorporar proteínas vegetales a tus platos diarios\, etc.
ATTACH;FMTTYPE=image/jpeg:https://creativegan.net/wp-content/uploads/2022/
 09/301864701_5379108085508401_1854747352925157385_n.png
CATEGORIES:charla o conferencia
LOCATION:Centro Cultural Las Cigarreras\, Calle San Carlos\, 78\, Alicante\
 , Alicante\, 03013\, España
X-APPLE-STRUCTURED-LOCATION;VALUE=URI;X-ADDRESS=Calle San Carlos\, 78\, Ali
 cante\, Alicante\, 03013\, España;X-APPLE-RADIUS=100;X-TITLE=Centro Cultu
 ral Las Cigarreras:geo:0,0
END:VEVENT
BEGIN:VTIMEZONE
TZID:Europe/Madrid
X-LIC-LOCATION:Europe/Madrid
BEGIN:DAYLIGHT
DTSTART:20220327T030000
TZOFFSETFROM:+0100
TZOFFSETTO:+0200
TZNAME:CEST
END:DAYLIGHT
END:VTIMEZONE
END:VCALENDAR