BEGIN:VCALENDAR
VERSION:2.0
PRODID:-//wp-events-plugin.com//7.2.3.1//EN
TZID:Europe/Madrid
X-WR-TIMEZONE:Europe/Madrid
BEGIN:VEVENT
UID:3@creativegan.net
DTSTART;TZID=Europe/Madrid:20221116T100000
DTEND;TZID=Europe/Madrid:20221117T180000
DTSTAMP:20221113T054755Z
URL:https://creativegan.net/eventos/cocina-saludable-en-tuppers-jornadas-1
 00-vegetales-y-saludables-de-la-universidad-de-alicante/
SUMMARY:Cocina saludable en tuppers - Jornadas 100% vegetales y saludables 
 de la Universidad de Alicante
DESCRIPTION:Primeras Jornadas Saludables de manos de la UVE y la Universida
 d de Alicante\n\n\nLa Unión Vegetariana Española y la Dirección de Univ
 ersidad Saludable de la UA\, se unen por primera vez para realizar unas jo
 rnadas que revelarán lo beneficios de una alimentación 100% vegetal en d
 iferentes aspectos de la vida\, así como el impacto que esta puede tener 
 en nuestra salud\, los animales y el medio ambiente.\n\nLas jornadas girar
 án en torno a temáticas impartidas dentro del campus\, es decir\, enfoca
 das a los estudios con los que cuenta la Universidad de Alicante\, como po
 r ejemplo Grado en ciencias de la actividad física y del deporte\, Grado 
 de Enfermería\, Grado en Nutrición humana y dietética\, Grado en Biolog
 ía\, Grado en Criminología\,...\n\nEl evento tendrá lugar los días 16 
 y 17 de noviembre y contará con expertos en cada una de las diferentes ma
 terias\, como por ejemplo Paula Bastán\, dietista nutricionista especiali
 zada en deporte y colaboradora de la UVE\; Rubén Miñano\, Ingeniero Téc
 nico Forestal\, presidente de Ecologistas en Acción Albacete así como Co
 ordinador Regional de Castilla La Mancha de EA. Rubén Carrasco\, abogado 
 y activista. Shaila Villar\, Criminóloga e Integradora Social. Además\, 
 confirma su asistencia el atleta de élite español\, Alberto Peláez\, co
 rredor de larga distancia en carreras de montaña\, ciclista y activista p
 or los derechos de los animales.\n\nLas jornadas contarán con la chef veg
 ana Virginia García\, más conocida como CreatiVegan\, que impartirá sho
 wcookings a los jóvenes del campus para que aprendan a realizar comidas d
 iarias saludables y nutritivas para su día a día.\n\nLas Jornadas tendr
 án lugar en el Salón de Actos del Edificio Germán Bernácer (junto a la
  Biblioteca del campus). Se espera que durante estos dos días las cafeter
 ías de la Universidad de Alicante ofrezcan opciones veganas.\n\nCarteles 
 de las jornadas (pincha en ellos para verlos más grandes):\n\n[su_table r
 esponsive="yes"]\n\n\n\n\n\n\n\n\n\n[/su_table]\nShowcookings\nAmbos será
 n de cocina saludable en tuppers.\nExplicaré los básicos necesarios para
  preparar todo tipo de comidas (100% vegetales) y prepararé unos cuantos 
 platos que aguantan perfectamente para llevar en tupper.\n\nDía 16: a las
  17:00h en el Aula de gastronomía del CS3\n\nDía 17: a las 10:00 en la S
 ala Polivalente del CS3\nMás info\nPodrás encontrar más información en
  la UVE y sus redes sociales.
ATTACH;FMTTYPE=image/jpeg:https://creativegan.net/wp-content/uploads/2022/
 11/4.jpg
CATEGORIES:showcooking
LOCATION:Universidad de Alicante\, Carretera San Vicente del Raspeig s/n\, 
 San Vicente del Raspeig\, Alicante\, 03690\, España
X-APPLE-STRUCTURED-LOCATION;VALUE=URI;X-ADDRESS=Carretera San Vicente del R
 aspeig s/n\, San Vicente del Raspeig\, Alicante\, 03690\, España;X-APPLE-
 RADIUS=100;X-TITLE=Universidad de Alicante:geo:0,0
END:VEVENT
BEGIN:VTIMEZONE
TZID:Europe/Madrid
X-LIC-LOCATION:Europe/Madrid
BEGIN:STANDARD
DTSTART:20221030T020000
TZOFFSETFROM:+0200
TZOFFSETTO:+0100
TZNAME:CET
END:STANDARD
END:VTIMEZONE
END:VCALENDAR