BEGIN:VCALENDAR
VERSION:2.0
PRODID:-//wp-events-plugin.com//7.2.3.1//EN
TZID:Europe/Madrid
X-WR-TIMEZONE:Europe/Madrid
BEGIN:VEVENT
UID:2@creativegan.net
DTSTART;TZID=Europe/Madrid:20220615T103000
DTEND;TZID=Europe/Madrid:20220615T213000
DTSTAMP:20220911T082519Z
URL:https://creativegan.net/eventos/charla-cocina-vegana-sin-complicacione
 s/
SUMMARY:Charla: Cocina Vegana sin Complicaciones
DESCRIPTION:Dentro de las actividades de la Feria Vegana de Albacete ALBAVE
 G daré una charla:\nCocina Vegana Sin Complicaciones\n\n\nHablaré de los
  productos e ingredientes básicos y sus precios\, qué ingredientes nos p
 ueden ayudar en el día a día\, diferencias entre productos proteicos veg
 anos\, cómo veganizar recetas tradicionales y cómo crear recetas nuevas 
 sin complicaciones.\n\nLugar: Aula de la naturaleza del Parque Abelardo S
 ánchez\nHora: 18:30 h\n\nIncluiré un dossier interactivo descargable par
 a tod@s l@s asistentes.
ATTACH;FMTTYPE=image/jpeg:https://creativegan.net/wp-content/uploads/2022/
 09/cartel_virginia.jpg
CATEGORIES:charla o conferencia
LOCATION:Parque Abelardo Sánchez\, Parque Abelardo Sánchez\, Albacete\, 0
 2003\, España
X-APPLE-STRUCTURED-LOCATION;VALUE=URI;X-ADDRESS=Parque Abelardo Sánchez\, 
 Albacete\, 02003\, España;X-APPLE-RADIUS=100;X-TITLE=Parque Abelardo Sán
 chez:geo:0,0
END:VEVENT
BEGIN:VTIMEZONE
TZID:Europe/Madrid
X-LIC-LOCATION:Europe/Madrid
BEGIN:DAYLIGHT
DTSTART:20220327T030000
TZOFFSETFROM:+0100
TZOFFSETTO:+0200
TZNAME:CEST
END:DAYLIGHT
END:VTIMEZONE
END:VCALENDAR